BEGIN:VCALENDAR
VERSION:2.0
PRODID:-//L&#039;ArTbre de Vie - ECPv6.8.2.1//NONSGML v1.0//EN
CALSCALE:GREGORIAN
METHOD:PUBLISH
X-ORIGINAL-URL:https://lartbredevie.fr
X-WR-CALDESC:Évènements pour L&#039;ArTbre de Vie
REFRESH-INTERVAL;VALUE=DURATION:PT1H
X-Robots-Tag:noindex
X-PUBLISHED-TTL:PT1H
BEGIN:VTIMEZONE
TZID:Europe/Paris
BEGIN:DAYLIGHT
TZOFFSETFROM:+0100
TZOFFSETTO:+0200
TZNAME:CEST
DTSTART:20260329T010000
END:DAYLIGHT
BEGIN:STANDARD
TZOFFSETFROM:+0200
TZOFFSETTO:+0100
TZNAME:CET
DTSTART:20261025T010000
END:STANDARD
END:VTIMEZONE
BEGIN:VEVENT
DTSTART;TZID=Europe/Paris:20260508T100000
DTEND;TZID=Europe/Paris:20260508T123000
DTSTAMP:20260422T005215
CREATED:20230101T150727Z
LAST-MODIFIED:20260327T101940Z
UID:2241-1778234400-1778243400@lartbredevie.fr
SUMMARY:Atelier de création parent/enfant
DESCRIPTION:Venez partager un temps de création artistique avec votre enfant (6 à 10 ans). Cela peut aussi convenir à un grand-parent\, un oncle\, une tante… \nA partir du matériel des arts plastiques\, et de propositions ludiques  vous explorerez votre créativité à deux\, au sein d’un groupe de 8 personnes maximum. Les 5 sens seront stimulés! \nVous repartiez avec votre création commune. \n50 euros pour le duo parent/enfant. \nInscription par mail ou téléphone OU  en cliquant sur le bouton « Participer » \nlartbredevie@yahoo.com ou 07 81 37 92 75\n \nEN CAS D’ANNULATION MOINS DE 7 JOURS AVANT L’ATELIER\, 50% DU MONTANT DE L’ATELIER SERA DÛ. EN CAS D’ANNULATION MOINS DE 48H AVANT L’ATELIER\, AUCUN REMBOURSEMENT NE SERA EFFECTUE.
URL:https://lartbredevie.fr/evenement/atelier-creatif-parent-enfant-5-sens/
LOCATION:L’ArTbre de Vie\, 71\, rue Notre Dame\, Redon\, Bretagne\, 35600\, France
CATEGORIES:Arts plastiques,Parentalité
ATTACH;FMTTYPE=image/jpeg:https://lartbredevie.fr/wp-content/uploads/2023/01/image-atelier-parent-enfant-scaled.jpg
ORGANIZER;CN="L'ArTbre de Vie":MAILTO:lartbredevie@yahoo.com
END:VEVENT
END:VCALENDAR