BEGIN:VCALENDAR
VERSION:2.0
PRODID:-//L&#039;ArTbre de Vie - ECPv6.8.2.1//NONSGML v1.0//EN
CALSCALE:GREGORIAN
METHOD:PUBLISH
X-ORIGINAL-URL:https://lartbredevie.fr
X-WR-CALDESC:Évènements pour L&#039;ArTbre de Vie
REFRESH-INTERVAL;VALUE=DURATION:PT1H
X-Robots-Tag:noindex
X-PUBLISHED-TTL:PT1H
BEGIN:VTIMEZONE
TZID:Europe/Paris
BEGIN:DAYLIGHT
TZOFFSETFROM:+0100
TZOFFSETTO:+0200
TZNAME:CEST
DTSTART:20240331T010000
END:DAYLIGHT
BEGIN:STANDARD
TZOFFSETFROM:+0200
TZOFFSETTO:+0100
TZNAME:CET
DTSTART:20241027T010000
END:STANDARD
END:VTIMEZONE
BEGIN:VEVENT
DTSTART;TZID=Europe/Paris:20240616T100000
DTEND;TZID=Europe/Paris:20240616T170000
DTSTAMP:20260422T063812
CREATED:20230101T154800Z
LAST-MODIFIED:20240530T210052Z
UID:2245-1718532000-1718557200@lartbredevie.fr
SUMMARY:Continuer son chemin après une rupture amoureuse
DESCRIPTION:Le processus de deuil n’est pas forcément lié à la perte de quelqu’un. Une séparation peut vivement toucher notre identité et le cheminement vers un mieux-être est parfois long. \nJ’ai obtenu une certification auprès de la psychologue Nathalie Hanot\, qui a créé un outil appelé le « Carnet de deuil ». Elle écrit ceci: \n« L’objectif de l’atelier est de mettre en mot\, en image\, en forme\, le vécu du deuil et d’installer page après page de la sérénité et de la paix en soi. Le carnet devient un véritable livre objet\, contenant artistique du travail psychique réalisé. Les différentes phases du deuil sont explorées. » \n\n\n\n\nCe Carnet s’adresse aux personnes vivant une situation de deuil suite à une rupture amoureuse\, une séparation\, un divorce. Qu’elle soit ancienne ou récente\, si vous sentez que cette situation vous empêche d’avance\, alors cet atelier est fait pour vous. \nIl propose: \n\nd’accepter la réalité de cette rupture.\nde vivre/exprimer votre douleur et la transcender dans un travail artistique d’écriture\, de collage\, de peinture.\nde créer un livre objet\, symbole du sacré du deuil et du chemin traversé\n\n\n\n\nTous les participants sont guidés par des consignes claires et contenantes. \nAucune prédisposition artistique n’est nécessaire. Les participants sont invités à prendre avec eux tout le matériel personnel lié au deuil (photos\, photocopies\, mots\, images\, souvenirs…)\, il sera utilisé et inclus au carnet. Le reste du matériel est fourni. \nPossibilité de déjeuner ensemble à l’atelier. Soit vous apportez de quoi manger (micro-ondes et vaisselle à disposition); soit vous achetez un sandwich dans une boulangerie accessible à pied et ouverte le dimanche matin. L’atelier est situé à 7 minutes à pied de la gare de Redon. \n6 personnes maximum. \nTarif: 85 euros (matériel compris) pour les adhérents à l’association L’ArTbre de Vie. 90 euros pour les non adhérents (5 euros/an vous garantit 5% sur tous les ateliers mensuels de l’année). \nInscription par mail ou téléphone  : lartbredevie@yahoo.com  ou  07 81 37 92 75. Votre inscription sera prise en compte après le versement d’un acompte de 30 euros.
URL:https://lartbredevie.fr/evenement/carnet-de-deuil/
LOCATION:L’ArTbre de Vie\, 71\, rue Notre Dame\, Redon\, Bretagne\, 35600\, France
CATEGORIES:Art-thérapie,Arts plastiques,Carnet de deuil,Deuil,Développement personnel,divorce,rupture amoureuse,séparation
ATTACH;FMTTYPE=image/jpeg:https://lartbredevie.fr/wp-content/uploads/2022/11/IMG_3181-scaled-e1667682462809.jpg
ORGANIZER;CN="L'ArTbre de Vie":MAILTO:lartbredevie@yahoo.com
END:VEVENT
END:VCALENDAR